BEGIN:VCALENDAR
VERSION:2.0
PRODID:-//Enoclub Portogruaro - ECPv4.7.3//NONSGML v1.0//EN
CALSCALE:GREGORIAN
METHOD:PUBLISH
X-WR-CALNAME:Enoclub Portogruaro
X-ORIGINAL-URL:https://enoclubportogruaro.it
X-WR-CALDESC:Eventi per Enoclub Portogruaro
BEGIN:VEVENT
DTSTART;TZID=Europe/Rome:20230319T103000
DTEND;TZID=Europe/Rome:20230319T170000
DTSTAMP:20260421T105905
CREATED:20221213T153625Z
LAST-MODIFIED:20221213T153625Z
UID:3291-1679221800-1679245200@enoclubportogruaro.it
SUMMARY:Assemblea dei Soci
DESCRIPTION:Assemblea dei Soci con rinnovo cariche e pranzo di pesce \n
URL:https://enoclubportogruaro.it/event/assemblea-dei-soci-3/
LOCATION:Da Murarotto
CATEGORIES:Attività riservate ai soci
END:VEVENT
END:VCALENDAR